BEGIN:VCALENDAR
METHOD:PUBLISH
VERSION:2.0
PRODID:-//hacksw/handcal//NONSGML v1.0//EN
X-WR-TIMEZONE:Australia/Sydney
CALSCALE:GREGORIAN
BEGIN:VEVENT
DTSTART;TZID=Australia/Sydney:20251026T080000
DTEND;TZID=Australia/Sydney:20251026T110000
UID:AO9LS31GT30PEXC2W5VYVBJ79BVT6Z2RND8HGW35KPTZHVEHX9AQHR963E4KU35U
DTSTAMP:20260421T192316
LOCATION:Berrima
DESCRIPTION:Cars and Coffee Southern Highlands, Berrima
URL;VALUE=URI:http://bolwellcarclubnsw.com/events/view.php?id=AO9LS31GT30P
 EXC2W5VYVBJ79BVT6Z2RND8HGW35KPTZHVEHX9AQHR963E4KU35U
SUMMARY:Cars and Coffee, Berrima
END:VEVENT
END:VCALENDAR
